BEGIN:VCALENDAR
VERSION:2.0
PRODID:-//Tukios.com/
BEGIN:VEVENT
UID:2c62e3d3-2f83-4f0a-b5e9-58e4eb83ac88@www.robertbarhamffh.com
DTSTAMP:20260423T014738Z
DTSTART:20260427T173000Z
DTEND:20260427T174500Z
SUMMARY:Burial
DESCRIPTION:
URL:https://www.robertbarhamffh.com/obituaries/deanna-wilbourn
LOCATION:Magnolia Cemetery 2638 23rd Ave  Meridian MS 39305
GEO:32.3869533;-88.6994589
END:VEVENT
END:VCALENDAR