BEGIN:VCALENDAR
VERSION:2.0
PRODID:-//Tukios.com/
BEGIN:VEVENT
UID:cc497bb5-5aeb-44b4-863f-cd2a0e43b422@www.robertbarhamffh.com
DTSTAMP:20260423T014619Z
DTSTART:20260427T160000Z
DTEND:20260427T170000Z
SUMMARY:Funeral Service
DESCRIPTION:
URL:https://www.robertbarhamffh.com/obituaries/deanna-wilbourn
LOCATION:First Presbyterian Church Of Meridian 903 23rd Ave  Meridian MS 
	39302
GEO:32.3662682;-88.7020176
END:VEVENT
END:VCALENDAR