BEGIN:VCALENDAR
VERSION:2.0
PRODID:-//Tukios.com/
BEGIN:VEVENT
UID:2eee132f-2167-463d-b2c7-4cfbcafa0516@www.robertbarhamffh.com
DTSTAMP:20260423T014333Z
DTSTART:20260427T150000Z
DTEND:20260427T154500Z
SUMMARY:Visitation
DESCRIPTION:
URL:https://www.robertbarhamffh.com/obituaries/deanna-wilbourn
LOCATION:First Presbyterian Church Of Meridian 903 23rd Ave  Meridian MS 
	39302
GEO:32.3662682;-88.7020176
END:VEVENT
END:VCALENDAR