BEGIN:VCALENDAR
VERSION:2.0
PRODID:-//Tukios.com/
BEGIN:VEVENT
UID:448ff379-52d8-4c32-b113-2675342b0353@www.robertbarhamffh.com
DTSTAMP:20260420T062211Z
DTSTART:20260420T180000Z
DTEND:20260420T190000Z
SUMMARY:Graveside Service
DESCRIPTION:
URL:https://www.robertbarhamffh.com/obituaries/jim-myrick
LOCATION:Mississippi Veterans' Memorial Cemetery 248 Honors Circle  
	Newton MS 39345
GEO:32.3212554;-89.1633929
END:VEVENT
END:VCALENDAR