BEGIN:VCALENDAR
VERSION:2.0
PRODID:-//Tukios.com/
BEGIN:VEVENT
UID:abbdec0e-16ac-4c36-8e06-96cbb42b7b39@www.robertbarhamffh.com
DTSTAMP:20260421T021303Z
DTSTART:20260424T180000Z
DTEND:20260424T194500Z
SUMMARY:Visitation
DESCRIPTION:
URL:https://www.robertbarhamffh.com/obituaries/linda-ann-jones
LOCATION:Chunky Baptist Church 23738 U.S. 80  Chunky MS 39323
GEO:32.3263154;-88.9313715
END:VEVENT
END:VCALENDAR