BEGIN:VCALENDAR
VERSION:2.0
PRODID:-//Tukios.com/
BEGIN:VEVENT
UID:8bd0a0d8-936f-4b73-8284-93740d524b0c@www.robertbarhamffh.com
DTSTAMP:20260421T020855Z
DTSTART:20260424T200000Z
DTEND:20260424T210000Z
SUMMARY:Funeral Service
DESCRIPTION:
URL:https://www.robertbarhamffh.com/obituaries/linda-ann-jones
LOCATION:Chunky Baptist Church 23738 U.S. 80  Chunky MS 39323
GEO:32.3263154;-88.9313715
END:VEVENT
END:VCALENDAR