BEGIN:VCALENDAR
VERSION:2.0
PRODID:-//Tukios.com/
BEGIN:VEVENT
UID:e8ce102c-475b-4c11-9d0e-b1e6f11dd75c@www.robertbarhamffh.com
DTSTAMP:20260421T021303Z
DTSTART:20260424T204500Z
DTEND:20260424T210000Z
SUMMARY:Burial
DESCRIPTION:
URL:https://www.robertbarhamffh.com/obituaries/linda-ann-jones
LOCATION:  Adams Street  Chunky MS 39323
GEO:32.3301582;-88.9310545
END:VEVENT
END:VCALENDAR