BEGIN:VCALENDAR
VERSION:2.0
PRODID:-//Tukios.com/
BEGIN:VEVENT
UID:b28f4568-af33-41d9-891a-0630391c83ea@www.robertbarhamffh.com
DTSTAMP:20260423T150158Z
DTSTART:20260424T153000Z
DTEND:20260424T160000Z
SUMMARY:Funeral Service
DESCRIPTION:
URL:https://www.robertbarhamffh.com/obituaries/lora-frazier
LOCATION:Robert Barham Family Funeral Home  6300 Highway 39 North  
	Meridian MS 39305
GEO:32.4347103;-88.6728365
END:VEVENT
END:VCALENDAR