BEGIN:VCALENDAR
VERSION:2.0
PRODID:-//Tukios.com/
BEGIN:VEVENT
UID:8e67ab11-010b-4943-9d5d-321ed83649e3@www.robertbarhamffh.com
DTSTAMP:20260423T150538Z
DTSTART:20260424T143000Z
DTEND:20260424T151500Z
SUMMARY:Visitation
DESCRIPTION:
URL:https://www.robertbarhamffh.com/obituaries/lora-frazier
LOCATION:Robert Barham Family Funeral Home  6300 Highway 39 North  
	Meridian MS 39305
GEO:32.4347103;-88.6728365
END:VEVENT
END:VCALENDAR