BEGIN:VCALENDAR
VERSION:2.0
PRODID:-//Tukios.com/
BEGIN:VEVENT
UID:b9c72418-8d5b-4c7e-b1f7-a54c4c7cc543@www.robertbarhamffh.com
DTSTAMP:20260420T215602Z
DTSTART:20260423T170000Z
DTEND:20260423T173000Z
SUMMARY:Graveside Service
DESCRIPTION:
URL:https://www.robertbarhamffh.com/obituaries/shirley-mccollum
LOCATION:Meridian Memorial Park Old Hwy 80 W  Meridian MS 39307
GEO:32.3554318;-88.7508444
END:VEVENT
END:VCALENDAR