BEGIN:VCALENDAR
VERSION:2.0
PRODID:-//Tukios.com/
BEGIN:VEVENT
UID:cf7511e2-124f-4766-98ea-a10181485f9e@www.robertbarhamffh.com
DTSTAMP:20260420T215021Z
DTSTART:20260423T153000Z
DTEND:20260423T163000Z
SUMMARY:Visitation
DESCRIPTION:
URL:https://www.robertbarhamffh.com/obituaries/shirley-mccollum
LOCATION:Robert Barham Family Funeral Home  6300 Highway 39 North  
	Meridian MS 39305
GEO:32.4347103;-88.6728365
END:VEVENT
END:VCALENDAR