BEGIN:VCALENDAR
VERSION:2.0
PRODID:-//Tukios.com/
BEGIN:VEVENT
UID:d4b9672b-c9a5-487a-922e-7e613b082a92@www.robertbarhamffh.com
DTSTAMP:20260423T014145Z
DTSTART:20260427T193000Z
DTEND:20260427T200000Z
SUMMARY:Graveside Service
DESCRIPTION:
URL:https://www.robertbarhamffh.com/obituaries/sue-read
LOCATION:Rush Cemetery  Rush Cemetery Road  De Kalb MS 39328
GEO:32.6881889;-88.6406063
END:VEVENT
END:VCALENDAR