BEGIN:VCALENDAR
VERSION:2.0
PRODID:-//Tukios.com/
BEGIN:VEVENT
UID:83615c3b-5800-4d27-81a8-99e0ecf95c32@www.robertbarhamffh.com
DTSTAMP:20260423T014753Z
DTSTART:20260427T180000Z
DTEND:20260427T190000Z
SUMMARY:Funeral Service
DESCRIPTION:
URL:https://www.robertbarhamffh.com/obituaries/sue-read
LOCATION:Robert Barham Family Funeral Home  6300 Highway 39 North  
	Meridian MS 39305
GEO:32.4347103;-88.6728365
END:VEVENT
END:VCALENDAR