BEGIN:VCALENDAR
VERSION:2.0
PRODID:-//Tukios.com/
BEGIN:VEVENT
UID:e05e8665-749b-475c-b7d3-a75fd1c6682c@www.robertbarhamffh.com
DTSTAMP:20260423T014921Z
DTSTART:20260427T163000Z
DTEND:20260427T174500Z
SUMMARY:Visitation
DESCRIPTION:
URL:https://www.robertbarhamffh.com/obituaries/sue-read
LOCATION:Robert Barham Family Funeral Home  6300 Highway 39 North  
	Meridian MS 39305
GEO:32.4347103;-88.6728365
END:VEVENT
END:VCALENDAR